BEGIN:VCALENDAR
VERSION:2.0
PRODID:-//Ross Library - ECPv6.13.2.1//NONSGML v1.0//EN
CALSCALE:GREGORIAN
METHOD:PUBLISH
X-WR-CALNAME:Ross Library
X-ORIGINAL-URL:https://rosslibrary.org
X-WR-CALDESC:Events for Ross Library
REFRESH-INTERVAL;VALUE=DURATION:PT1H
X-Robots-Tag:noindex
X-PUBLISHED-TTL:PT1H
BEGIN:VTIMEZONE
TZID:America/New_York
BEGIN:DAYLIGHT
TZOFFSETFROM:-0500
TZOFFSETTO:-0400
TZNAME:EDT
DTSTART:20260308T070000
END:DAYLIGHT
BEGIN:STANDARD
TZOFFSETFROM:-0400
TZOFFSETTO:-0500
TZNAME:EST
DTSTART:20261101T060000
END:STANDARD
END:VTIMEZONE
BEGIN:VEVENT
DTSTART;TZID=America/New_York:20260421T163000
DTEND;TZID=America/New_York:20260421T173000
DTSTAMP:20260421T101129
CREATED:20260326T201138Z
LAST-MODIFIED:20260326T201138Z
UID:10007116-1776789000-1776792600@rosslibrary.org
SUMMARY:FCL- Movie Night
DESCRIPTION:Movie showing at tonight at Friendship Community Library in Beech Creek\, PA! \nThe movie will start at promptly 4:30 p.m. \nBringing snacks and drinks (in resealable containers) are encouraged; as well as bringing a friend! There is plenty of seating and also plenty of space on the floor for blankets. Come comfy and enjoy! \nFor questions\, call or email us at: \n\n(570) 962-2045\nfriendship@rosslibrary.org\n\nFor more information check out the Friendship Community Library Facebook page! \nhttps://www.facebook.com/FriendshipCommunityLibrary
URL:https://rosslibrary.org/event/fcl-movie-night-7/
LOCATION:Friendship Community Library\, 127 Main Street\, Beech Creek\, PA\, 16822\, United States
ATTACH;FMTTYPE=image/jpeg:https://rosslibrary.org/wp-content/uploads/2026/02/images-1.jpg
ORGANIZER;CN="Friendship Community Library":MAILTO:friendship@rosslibrary.org
END:VEVENT
BEGIN:VEVENT
DTSTART;TZID=America/New_York:20260430T163000
DTEND;TZID=America/New_York:20260430T173000
DTSTAMP:20260421T101129
CREATED:20260326T201039Z
LAST-MODIFIED:20260326T201039Z
UID:10007117-1777566600-1777570200@rosslibrary.org
SUMMARY:FCL- Movie Night
DESCRIPTION:Movie showing at tonight at Friendship Community Library in Beech Creek\, PA! \nThe movie will start at promptly 4:30 p.m. \nBringing snacks and drinks (in resealable containers) are encouraged; as well as bringing a friend! There is plenty of seating and also plenty of space on the floor for blankets. Come comfy and enjoy! \nFor questions\, call or email us at: \n\n(570) 962-2045\nfriendship@rosslibrary.org\n\nFor more information check out the Friendship Community Library Facebook page! \nhttps://www.facebook.com/FriendshipCommunityLibrary
URL:https://rosslibrary.org/event/fcl-movie-night-6/
LOCATION:Friendship Community Library\, 127 Main Street\, Beech Creek\, PA\, 16822\, United States
ATTACH;FMTTYPE=image/jpeg:https://rosslibrary.org/wp-content/uploads/2026/02/images-2.jpg
ORGANIZER;CN="Friendship Community Library":MAILTO:friendship@rosslibrary.org
END:VEVENT
END:VCALENDAR