BEGIN:VCALENDAR
VERSION:2.0
PRODID:-//Ross Library - ECPv6.13.2.1//NONSGML v1.0//EN
CALSCALE:GREGORIAN
METHOD:PUBLISH
X-ORIGINAL-URL:https://rosslibrary.org
X-WR-CALDESC:Events for Ross Library
REFRESH-INTERVAL;VALUE=DURATION:PT1H
X-Robots-Tag:noindex
X-PUBLISHED-TTL:PT1H
BEGIN:VTIMEZONE
TZID:America/New_York
BEGIN:DAYLIGHT
TZOFFSETFROM:-0500
TZOFFSETTO:-0400
TZNAME:EDT
DTSTART:20300310T070000
END:DAYLIGHT
BEGIN:STANDARD
TZOFFSETFROM:-0400
TZOFFSETTO:-0500
TZNAME:EST
DTSTART:20301103T060000
END:STANDARD
BEGIN:DAYLIGHT
TZOFFSETFROM:-0500
TZOFFSETTO:-0400
TZNAME:EDT
DTSTART:20310309T070000
END:DAYLIGHT
BEGIN:STANDARD
TZOFFSETFROM:-0400
TZOFFSETTO:-0500
TZNAME:EST
DTSTART:20311102T060000
END:STANDARD
END:VTIMEZONE
BEGIN:VEVENT
DTSTART;TZID=America/New_York:20301212T180000
DTEND;TZID=America/New_York:20301212T194500
DTSTAMP:20260422T045325
CREATED:20260227T200412Z
LAST-MODIFIED:20260227T200412Z
UID:10007231-1923328800-1923335100@rosslibrary.org
SUMMARY:Tabletop Role-Playing Game Club
DESCRIPTION:Thursday every 2 weeks – Gross Room BAges 14+\nStep into new worlds\, build unforgettable characters\, and roll for adventure! Our monthly Tabletop Role-Playing Game Club invites players of all experience levels; whether you’re a seasoned adventurer or brand-new to RPGs.\nEach month\, we explore different systems\, settings\, and play styles. Come to learn\, play\, meet fellow gamers\, and dive into collaborative storytelling.\nWhat to Expect:• Friendly\, beginner-welcoming environment• One-shot sessions and campaign introductions• Experienced players happy to guide newcomers• All materials provided (but feel free to bring your own dice!)\nNo registration required! Just bring your imagination!
URL:https://rosslibrary.org/event/tabletop-role-playing-game-club-2/2030-12-12/
LOCATION:Ross Library\, 232 West Main Street\, Lock Haven\, PA\, 17745\, United States
CATEGORIES:Adult Services,Ross Library
ATTACH;FMTTYPE=image/png:https://rosslibrary.org/wp-content/uploads/2026/01/TTRPG-Club-1920-x-1080-px.png
ORGANIZER;CN="Adult Services":MAILTO:ross13@rosslibrary.org
END:VEVENT
BEGIN:VEVENT
DTSTART;TZID=America/New_York:20301226T180000
DTEND;TZID=America/New_York:20301226T194500
DTSTAMP:20260422T045325
CREATED:20260227T200412Z
LAST-MODIFIED:20260227T200412Z
UID:10007232-1924538400-1924544700@rosslibrary.org
SUMMARY:Tabletop Role-Playing Game Club
DESCRIPTION:Thursday every 2 weeks – Gross Room BAges 14+\nStep into new worlds\, build unforgettable characters\, and roll for adventure! Our monthly Tabletop Role-Playing Game Club invites players of all experience levels; whether you’re a seasoned adventurer or brand-new to RPGs.\nEach month\, we explore different systems\, settings\, and play styles. Come to learn\, play\, meet fellow gamers\, and dive into collaborative storytelling.\nWhat to Expect:• Friendly\, beginner-welcoming environment• One-shot sessions and campaign introductions• Experienced players happy to guide newcomers• All materials provided (but feel free to bring your own dice!)\nNo registration required! Just bring your imagination!
URL:https://rosslibrary.org/event/tabletop-role-playing-game-club-2/2030-12-26/
LOCATION:Ross Library\, 232 West Main Street\, Lock Haven\, PA\, 17745\, United States
CATEGORIES:Adult Services,Ross Library
ATTACH;FMTTYPE=image/png:https://rosslibrary.org/wp-content/uploads/2026/01/TTRPG-Club-1920-x-1080-px.png
ORGANIZER;CN="Adult Services":MAILTO:ross13@rosslibrary.org
END:VEVENT
BEGIN:VEVENT
DTSTART;TZID=America/New_York:20310109T180000
DTEND;TZID=America/New_York:20310109T194500
DTSTAMP:20260422T045325
CREATED:20260227T200412Z
LAST-MODIFIED:20260227T200412Z
UID:10007233-1925748000-1925754300@rosslibrary.org
SUMMARY:Tabletop Role-Playing Game Club
DESCRIPTION:Thursday every 2 weeks – Gross Room BAges 14+\nStep into new worlds\, build unforgettable characters\, and roll for adventure! Our monthly Tabletop Role-Playing Game Club invites players of all experience levels; whether you’re a seasoned adventurer or brand-new to RPGs.\nEach month\, we explore different systems\, settings\, and play styles. Come to learn\, play\, meet fellow gamers\, and dive into collaborative storytelling.\nWhat to Expect:• Friendly\, beginner-welcoming environment• One-shot sessions and campaign introductions• Experienced players happy to guide newcomers• All materials provided (but feel free to bring your own dice!)\nNo registration required! Just bring your imagination!
URL:https://rosslibrary.org/event/tabletop-role-playing-game-club-2/2031-01-09/
LOCATION:Ross Library\, 232 West Main Street\, Lock Haven\, PA\, 17745\, United States
CATEGORIES:Adult Services,Ross Library
ATTACH;FMTTYPE=image/png:https://rosslibrary.org/wp-content/uploads/2026/01/TTRPG-Club-1920-x-1080-px.png
ORGANIZER;CN="Adult Services":MAILTO:ross13@rosslibrary.org
END:VEVENT
BEGIN:VEVENT
DTSTART;TZID=America/New_York:20310123T180000
DTEND;TZID=America/New_York:20310123T194500
DTSTAMP:20260422T045325
CREATED:20260227T200412Z
LAST-MODIFIED:20260227T200412Z
UID:10007234-1926957600-1926963900@rosslibrary.org
SUMMARY:Tabletop Role-Playing Game Club
DESCRIPTION:Thursday every 2 weeks – Gross Room BAges 14+\nStep into new worlds\, build unforgettable characters\, and roll for adventure! Our monthly Tabletop Role-Playing Game Club invites players of all experience levels; whether you’re a seasoned adventurer or brand-new to RPGs.\nEach month\, we explore different systems\, settings\, and play styles. Come to learn\, play\, meet fellow gamers\, and dive into collaborative storytelling.\nWhat to Expect:• Friendly\, beginner-welcoming environment• One-shot sessions and campaign introductions• Experienced players happy to guide newcomers• All materials provided (but feel free to bring your own dice!)\nNo registration required! Just bring your imagination!
URL:https://rosslibrary.org/event/tabletop-role-playing-game-club-2/2031-01-23/
LOCATION:Ross Library\, 232 West Main Street\, Lock Haven\, PA\, 17745\, United States
CATEGORIES:Adult Services,Ross Library
ATTACH;FMTTYPE=image/png:https://rosslibrary.org/wp-content/uploads/2026/01/TTRPG-Club-1920-x-1080-px.png
ORGANIZER;CN="Adult Services":MAILTO:ross13@rosslibrary.org
END:VEVENT
BEGIN:VEVENT
DTSTART;TZID=America/New_York:20310206T180000
DTEND;TZID=America/New_York:20310206T194500
DTSTAMP:20260422T045325
CREATED:20260227T200412Z
LAST-MODIFIED:20260227T200412Z
UID:10007235-1928167200-1928173500@rosslibrary.org
SUMMARY:Tabletop Role-Playing Game Club
DESCRIPTION:Thursday every 2 weeks – Gross Room BAges 14+\nStep into new worlds\, build unforgettable characters\, and roll for adventure! Our monthly Tabletop Role-Playing Game Club invites players of all experience levels; whether you’re a seasoned adventurer or brand-new to RPGs.\nEach month\, we explore different systems\, settings\, and play styles. Come to learn\, play\, meet fellow gamers\, and dive into collaborative storytelling.\nWhat to Expect:• Friendly\, beginner-welcoming environment• One-shot sessions and campaign introductions• Experienced players happy to guide newcomers• All materials provided (but feel free to bring your own dice!)\nNo registration required! Just bring your imagination!
URL:https://rosslibrary.org/event/tabletop-role-playing-game-club-2/2031-02-06/
LOCATION:Ross Library\, 232 West Main Street\, Lock Haven\, PA\, 17745\, United States
CATEGORIES:Adult Services,Ross Library
ATTACH;FMTTYPE=image/png:https://rosslibrary.org/wp-content/uploads/2026/01/TTRPG-Club-1920-x-1080-px.png
ORGANIZER;CN="Adult Services":MAILTO:ross13@rosslibrary.org
END:VEVENT
BEGIN:VEVENT
DTSTART;TZID=America/New_York:20310220T180000
DTEND;TZID=America/New_York:20310220T194500
DTSTAMP:20260422T045325
CREATED:20260227T200412Z
LAST-MODIFIED:20260227T200412Z
UID:10007236-1929376800-1929383100@rosslibrary.org
SUMMARY:Tabletop Role-Playing Game Club
DESCRIPTION:Thursday every 2 weeks – Gross Room BAges 14+\nStep into new worlds\, build unforgettable characters\, and roll for adventure! Our monthly Tabletop Role-Playing Game Club invites players of all experience levels; whether you’re a seasoned adventurer or brand-new to RPGs.\nEach month\, we explore different systems\, settings\, and play styles. Come to learn\, play\, meet fellow gamers\, and dive into collaborative storytelling.\nWhat to Expect:• Friendly\, beginner-welcoming environment• One-shot sessions and campaign introductions• Experienced players happy to guide newcomers• All materials provided (but feel free to bring your own dice!)\nNo registration required! Just bring your imagination!
URL:https://rosslibrary.org/event/tabletop-role-playing-game-club-2/2031-02-20/
LOCATION:Ross Library\, 232 West Main Street\, Lock Haven\, PA\, 17745\, United States
CATEGORIES:Adult Services,Ross Library
ATTACH;FMTTYPE=image/png:https://rosslibrary.org/wp-content/uploads/2026/01/TTRPG-Club-1920-x-1080-px.png
ORGANIZER;CN="Adult Services":MAILTO:ross13@rosslibrary.org
END:VEVENT
END:VCALENDAR