BEGIN:VCALENDAR
VERSION:2.0
PRODID:-//Ross Library - ECPv6.13.2.1//NONSGML v1.0//EN
CALSCALE:GREGORIAN
METHOD:PUBLISH
X-WR-CALNAME:Ross Library
X-ORIGINAL-URL:https://rosslibrary.org
X-WR-CALDESC:Events for Ross Library
REFRESH-INTERVAL;VALUE=DURATION:PT1H
X-Robots-Tag:noindex
X-PUBLISHED-TTL:PT1H
BEGIN:VTIMEZONE
TZID:America/New_York
BEGIN:DAYLIGHT
TZOFFSETFROM:-0500
TZOFFSETTO:-0400
TZNAME:EDT
DTSTART:20260308T070000
END:DAYLIGHT
BEGIN:STANDARD
TZOFFSETFROM:-0400
TZOFFSETTO:-0500
TZNAME:EST
DTSTART:20261101T060000
END:STANDARD
END:VTIMEZONE
BEGIN:VEVENT
DTSTART;TZID=America/New_York:20260223T163000
DTEND;TZID=America/New_York:20260223T180000
DTSTAMP:20260421T165428
CREATED:20260217T213206Z
LAST-MODIFIED:20260217T220300Z
UID:10001375-1771864200-1771869600@rosslibrary.org
SUMMARY:FCL - Drawing Class
DESCRIPTION:Ready to take your sketches to the next level? Join us every Monday for our Free Weekly Drawing Class\, designed specifically for ages 12 and up. Whether you’re a beginner or looking to sharpen your skills\, we provide everything you need—just bring your creativity! \nFrom mastering the art of shading and blending to understanding perspective and focal points\, you’ll learn the essential techniques to make your art pop. \nDrawing Class is taught by George Stefanski\, the organizer for Artpost Awareness\, every Monday from 4:30 to 6 p.m. This class is free and everything needed for the class is provided. Walk-ins are welcome. \nFor questions\, call or email us at: \n\n(570) 962-2045\nfriendship@rosslibrary.org\n\nFor more information check out the Friendship Community Library Facebook page! \nhttps://www.facebook.com/FriendshipCommunityLibrary \n 
URL:https://rosslibrary.org/event/fcl-drawing-class-5/
LOCATION:Friendship Community Library\, 127 Main Street\, Beech Creek\, PA\, 16822\, United States
CATEGORIES:Friendship Community Library
ATTACH;FMTTYPE=image/png:https://rosslibrary.org/wp-content/uploads/2025/01/drawing.png
ORGANIZER;CN="Friendship Community Library":MAILTO:friendship@rosslibrary.org
END:VEVENT
BEGIN:VEVENT
DTSTART;TZID=America/New_York:20260219T153000
DTEND;TZID=America/New_York:20260219T163000
DTSTAMP:20260421T165428
CREATED:20260217T215443Z
LAST-MODIFIED:20260217T215444Z
UID:10004403-1771515000-1771518600@rosslibrary.org
SUMMARY:FCL - Louise’s Loops (Crochet Club)
DESCRIPTION:Our crochet club named in memory of Louise Johnson\, a beloved member and host of the club for many years. Join us every first and third Thursday of the month at 3:30 p.m. to crochet and talk amongst friends\, sharing tips/tricks and cool patterns. Please bring your own supplies and current projects as they are not supplied. \nFor questions\, call or email us at: \n\n(570) 962-2045\nfriendship@rosslibrary.org\n\nFor more information check out the Friendship Community Library Facebook page! \nhttps://www.facebook.com/FriendshipCommunityLibrary
URL:https://rosslibrary.org/event/fcl-louises-loops-crochet-club-2-3/2026-02-19/
LOCATION:Friendship Community Library\, 127 Main Street\, Beech Creek\, PA\, 16822\, United States
CATEGORIES:Friendship Community Library
ATTACH;FMTTYPE=image/png:https://rosslibrary.org/wp-content/uploads/2025/09/crochet.png
ORGANIZER;CN="Friendship Community Library":MAILTO:friendship@rosslibrary.org
END:VEVENT
BEGIN:VEVENT
DTSTART;TZID=America/New_York:20260216T163000
DTEND;TZID=America/New_York:20260216T180000
DTSTAMP:20260421T165428
CREATED:20260217T215246Z
LAST-MODIFIED:20260217T215246Z
UID:10001374-1771259400-1771264800@rosslibrary.org
SUMMARY:FCL - Drawing Class
DESCRIPTION:Ready to take your sketches to the next level? Join us every Monday for our Free Weekly Drawing Class\, designed specifically for ages 12 and up. Whether you’re a beginner or looking to sharpen your skills\, we provide everything you need—just bring your creativity! \nFrom mastering the art of shading and blending to understanding perspective and focal points\, you’ll learn the essential techniques to make your art pop. \nDrawing Class is taught by George Stefanski\, the organizer for Artpost Awareness\, every Monday from 4:30 to 6 p.m. This class is free and everything needed for the class is provided. Walk-ins are welcome. \nFor questions\, call or email us at: \n\n(570) 962-2045\nfriendship@rosslibrary.org\n\nFor more information check out the Friendship Community Library Facebook page! \nhttps://www.facebook.com/FriendshipCommunityLibrary
URL:https://rosslibrary.org/event/fcl-drawing-class-6/2026-02-16/
LOCATION:Friendship Community Library\, 127 Main Street\, Beech Creek\, PA\, 16822\, United States
CATEGORIES:Friendship Community Library
ATTACH;FMTTYPE=image/png:https://rosslibrary.org/wp-content/uploads/2025/01/drawing.png
ORGANIZER;CN="Friendship Community Library":MAILTO:friendship@rosslibrary.org
END:VEVENT
BEGIN:VEVENT
DTSTART;TZID=America/New_York:20260209T163000
DTEND;TZID=America/New_York:20260209T180000
DTSTAMP:20260421T165428
CREATED:20260217T201831Z
LAST-MODIFIED:20260217T201831Z
UID:10001373-1770654600-1770660000@rosslibrary.org
SUMMARY:FCL - Drawing Class
DESCRIPTION:Ready to take your sketches to the next level? Join us every Monday for our Free Weekly Drawing Class\, designed specifically for ages 12 and up. Whether you’re a beginner or looking to sharpen your skills\, we provide everything you need—just bring your creativity! \nFrom mastering the art of shading and blending to understanding perspective and focal points\, you’ll learn the essential techniques to make your art pop. \nDrawing Class is taught by George Stefanski\, the organizer for Artpost Awareness\, every Monday from 4:30 to 6 p.m. This class is free and everything needed for the class is provided. Walk-ins are welcome. \nFor questions\, call or email us at: \n\n(570) 962-2045\nfriendship@rosslibrary.org\n\nFor more information check out the Friendship Community Library Facebook page! \nhttps://www.facebook.com/FriendshipCommunityLibrary
URL:https://rosslibrary.org/event/fcl-drawing-class-2/
LOCATION:Friendship Community Library\, 127 Main Street\, Beech Creek\, PA\, 16822\, United States
CATEGORIES:Friendship Community Library
ATTACH;FMTTYPE=image/png:https://rosslibrary.org/wp-content/uploads/2025/01/drawing.png
ORGANIZER;CN="Friendship Community Library":MAILTO:friendship@rosslibrary.org
END:VEVENT
BEGIN:VEVENT
DTSTART;TZID=America/New_York:20260205T153000
DTEND;TZID=America/New_York:20260205T163000
DTSTAMP:20260421T165428
CREATED:20250920T155222Z
LAST-MODIFIED:20260217T200935Z
UID:10004281-1770305400-1770309000@rosslibrary.org
SUMMARY:FCL - Louise’s Loops (Crochet Club)
DESCRIPTION:Our crochet club named in memory of Louise Johnson\, a beloved member and host of the club for many years. Join us every first and third Thursday of the month at 3:30 p.m. to crochet and talk amongst friends\, sharing tips/tricks and cool patterns. Please bring your own supplies and current projects as they are not supplied.
URL:https://rosslibrary.org/event/fcl-louises-loops-crochet-club/2026-02-05/
LOCATION:Friendship Community Library\, 127 Main Street\, Beech Creek\, PA\, 16822\, United States
CATEGORIES:Friendship Community Library
ATTACH;FMTTYPE=image/png:https://rosslibrary.org/wp-content/uploads/2025/09/crochet.png
ORGANIZER;CN="Friendship Community Library":MAILTO:friendship@rosslibrary.org
END:VEVENT
BEGIN:VEVENT
DTSTART;TZID=America/New_York:20260202T163000
DTEND;TZID=America/New_York:20260202T180000
DTSTAMP:20260421T165428
CREATED:20260217T215246Z
LAST-MODIFIED:20260217T215246Z
UID:10001372-1770049800-1770055200@rosslibrary.org
SUMMARY:FCL - Drawing Class
DESCRIPTION:Ready to take your sketches to the next level? Join us every Monday for our Free Weekly Drawing Class\, designed specifically for ages 12 and up. Whether you’re a beginner or looking to sharpen your skills\, we provide everything you need—just bring your creativity! \nFrom mastering the art of shading and blending to understanding perspective and focal points\, you’ll learn the essential techniques to make your art pop. \nDrawing Class is taught by George Stefanski\, the organizer for Artpost Awareness\, every Monday from 4:30 to 6 p.m. This class is free and everything needed for the class is provided. Walk-ins are welcome. \nFor questions\, call or email us at: \n\n(570) 962-2045\nfriendship@rosslibrary.org\n\nFor more information check out the Friendship Community Library Facebook page! \nhttps://www.facebook.com/FriendshipCommunityLibrary
URL:https://rosslibrary.org/event/fcl-drawing-class-6/2026-02-02/
LOCATION:Friendship Community Library\, 127 Main Street\, Beech Creek\, PA\, 16822\, United States
CATEGORIES:Friendship Community Library
ATTACH;FMTTYPE=image/png:https://rosslibrary.org/wp-content/uploads/2025/01/drawing.png
ORGANIZER;CN="Friendship Community Library":MAILTO:friendship@rosslibrary.org
END:VEVENT
BEGIN:VEVENT
DTSTART;TZID=America/New_York:20260126T163000
DTEND;TZID=America/New_York:20260126T180000
DTSTAMP:20260421T165428
CREATED:20250116T202401Z
LAST-MODIFIED:20260217T210637Z
UID:10001371-1769445000-1769450400@rosslibrary.org
SUMMARY:FCL - Drawing Class
DESCRIPTION:Ready to take your sketches to the next level? Join us every Monday for our Free Weekly Drawing Class\, designed specifically for ages 12 and up. Whether you’re a beginner or looking to sharpen your skills\, we provide everything you need—just bring your creativity! \nFrom mastering the art of shading and blending to understanding perspective and focal points\, you’ll learn the essential techniques to make your art pop. \nDrawing Class is taught by George Stefanski\, the organizer for Artpost Awareness\, every Monday from 4:30 to 6 p.m. This class is free and everything needed for the class is provided. Walk-ins are welcome. \nFor questions\, call or email us at: \n\n(570) 962-2045\nfriendship@rosslibrary.org\n\nFor more information check out the Friendship Community Library Facebook page! \nhttps://www.facebook.com/FriendshipCommunityLibrary
URL:https://rosslibrary.org/event/fcl-drawing-class/2026-01-26/
LOCATION:Friendship Community Library\, 127 Main Street\, Beech Creek\, PA\, 16822\, United States
CATEGORIES:Friendship Community Library
ATTACH;FMTTYPE=image/png:https://rosslibrary.org/wp-content/uploads/2025/01/drawing.png
ORGANIZER;CN="Friendship Community Library":MAILTO:friendship@rosslibrary.org
END:VEVENT
END:VCALENDAR