BEGIN:VCALENDAR
VERSION:2.0
PRODID:-//Ross Library - ECPv6.13.2.1//NONSGML v1.0//EN
CALSCALE:GREGORIAN
METHOD:PUBLISH
X-WR-CALNAME:Ross Library
X-ORIGINAL-URL:https://rosslibrary.org
X-WR-CALDESC:Events for Ross Library
REFRESH-INTERVAL;VALUE=DURATION:PT1H
X-Robots-Tag:noindex
X-PUBLISHED-TTL:PT1H
BEGIN:VTIMEZONE
TZID:America/New_York
BEGIN:DAYLIGHT
TZOFFSETFROM:-0500
TZOFFSETTO:-0400
TZNAME:EDT
DTSTART:20260308T070000
END:DAYLIGHT
BEGIN:STANDARD
TZOFFSETFROM:-0400
TZOFFSETTO:-0500
TZNAME:EST
DTSTART:20261101T060000
END:STANDARD
END:VTIMEZONE
BEGIN:VEVENT
DTSTART;TZID=America/New_York:20260412T190000
DTEND;TZID=America/New_York:20260412T220000
DTSTAMP:20260422T084709
CREATED:20260210T172855Z
LAST-MODIFIED:20260210T172855Z
UID:10006313-1776020400-1776031200@rosslibrary.org
SUMMARY:Murder Mystery: It's a Killer Life
DESCRIPTION:Step into a cozy 1940s Christmas party where things take a deadly turn at our Annual Murder Mystery Dinner! Hosted by the Annie Halenbake Ross Library & the Sons of Italy\, this immersive evening (or afternoon!) is packed with twists\, suspects\, and vintage flair.\n\n Choose your night:\n\nSaturday\, April 11Doors open at 6 p.m. | Mystery starts at 7 p.m. Dinner provided\n\nSunday\, April 12Doors open at 1 p.m. | Mystery starts at 2 p.m. Lunch provided\n\n Sons of Italy\, Lock Haven $40 per person (ages 16+) Costumes encouraged Cash bar available\n\nTickets are available now—grab yours at the link in the comments or at the Main Desk before they disappear… permanently.\n\n(Sponsorship opportunities also available! Contact us for more info!)
URL:https://rosslibrary.org/event/murder-mystery-its-a-killer-life/2026-04-12/
LOCATION:Sons of Italy – Lock Haven\, 1 N. Henderson Street\, Lock Haven\, PA\, 17745\, United States
CATEGORIES:Adult Services,Ross Library
ATTACH;FMTTYPE=image/jpeg:https://rosslibrary.org/wp-content/uploads/2026/02/619373886_1319049340255502_352272033606089668_n.jpg
END:VEVENT
BEGIN:VEVENT
DTSTART;TZID=America/New_York:20260411T140000
DTEND;TZID=America/New_York:20260411T170000
DTSTAMP:20260422T084709
CREATED:20260210T172855Z
LAST-MODIFIED:20260210T172855Z
UID:10006312-1775916000-1775926800@rosslibrary.org
SUMMARY:Murder Mystery: It's a Killer Life
DESCRIPTION:Step into a cozy 1940s Christmas party where things take a deadly turn at our Annual Murder Mystery Dinner! Hosted by the Annie Halenbake Ross Library & the Sons of Italy\, this immersive evening (or afternoon!) is packed with twists\, suspects\, and vintage flair.\n\n Choose your night:\n\nSaturday\, April 11Doors open at 6 p.m. | Mystery starts at 7 p.m. Dinner provided\n\nSunday\, April 12Doors open at 1 p.m. | Mystery starts at 2 p.m. Lunch provided\n\n Sons of Italy\, Lock Haven $40 per person (ages 16+) Costumes encouraged Cash bar available\n\nTickets are available now—grab yours at the link in the comments or at the Main Desk before they disappear… permanently.\n\n(Sponsorship opportunities also available! Contact us for more info!)
URL:https://rosslibrary.org/event/murder-mystery-its-a-killer-life/2026-04-11/
LOCATION:Sons of Italy – Lock Haven\, 1 N. Henderson Street\, Lock Haven\, PA\, 17745\, United States
CATEGORIES:Adult Services,Ross Library
ATTACH;FMTTYPE=image/jpeg:https://rosslibrary.org/wp-content/uploads/2026/02/619373886_1319049340255502_352272033606089668_n.jpg
END:VEVENT
END:VCALENDAR