BEGIN:VCALENDAR
VERSION:2.0
PRODID:-//Ross Library - ECPv6.13.2.1//NONSGML v1.0//EN
CALSCALE:GREGORIAN
METHOD:PUBLISH
X-ORIGINAL-URL:https://rosslibrary.org
X-WR-CALDESC:Events for Ross Library
REFRESH-INTERVAL;VALUE=DURATION:PT1H
X-Robots-Tag:noindex
X-PUBLISHED-TTL:PT1H
BEGIN:VTIMEZONE
TZID:America/New_York
BEGIN:DAYLIGHT
TZOFFSETFROM:-0500
TZOFFSETTO:-0400
TZNAME:EDT
DTSTART:20260308T070000
END:DAYLIGHT
BEGIN:STANDARD
TZOFFSETFROM:-0400
TZOFFSETTO:-0500
TZNAME:EST
DTSTART:20261101T060000
END:STANDARD
END:VTIMEZONE
BEGIN:VEVENT
DTSTART;TZID=America/New_York:20260205T180000
DTEND;TZID=America/New_York:20260205T190000
DTSTAMP:20260419T170826
CREATED:20250331T153244Z
LAST-MODIFIED:20251208T212021Z
UID:10002535-1770314400-1770318000@rosslibrary.org
SUMMARY:English as a Second Language Class
DESCRIPTION:Join us for English classes tailored to students learning English as a second language. All levels welcome! \nLocation: Gross Room B
URL:https://rosslibrary.org/event/english-as-a-second-language-class-2/2026-02-05/
LOCATION:Ross Library\, 232 West Main Street\, Lock Haven\, PA\, 17745\, United States
CATEGORIES:Adult Services,Ross Library
ATTACH;FMTTYPE=image/jpeg:https://rosslibrary.org/wp-content/uploads/2025/03/486262557_1072913134869125_558893423278946933_n.jpg
ORGANIZER;CN="Adult Services":MAILTO:ross13@rosslibrary.org
END:VEVENT
BEGIN:VEVENT
DTSTART;TZID=America/New_York:20260204T143000
DTEND;TZID=America/New_York:20260204T153000
DTSTAMP:20260419T170826
CREATED:20251104T204407Z
LAST-MODIFIED:20251208T212508Z
UID:10005654-1770215400-1770219000@rosslibrary.org
SUMMARY:Toddler Social
DESCRIPTION:Toddlers and their caregivers are invited to our Toddler Social! Enjoy a fun\, safe space for little ones to explore\, play\, and interact with peers while caregivers connect with other parents and caregivers. \nNo registration required – just come ready to play!
URL:https://rosslibrary.org/event/toddler-social/2026-02-04/
LOCATION:Ross Library\, 232 West Main Street\, Lock Haven\, PA\, 17745\, United States
CATEGORIES:Children Services,Ross Library
END:VEVENT
BEGIN:VEVENT
DTSTART;TZID=America/New_York:20260204T103000
DTEND;TZID=America/New_York:20260204T113000
DTSTAMP:20260419T170826
CREATED:20250303T213248Z
LAST-MODIFIED:20260310T140652Z
UID:10001940-1770201000-1770204600@rosslibrary.org
SUMMARY:Wednesday Morning Storytime
DESCRIPTION:Welcome\, little explorers\, to a magical morning of discovery at Storytime in the Ross Library! \n\nWhat to Expect \n\n\nInteractive Storytelling: Let your child’s imagination soar with captivating tales that transport them to different worlds. Our skilled storytellers make each session an adventure\, bringing stories to life with expressive voices and engaging gestures.\nFun Games: After the storytelling\, children can participate in playful games that entertain and enhance their cognitive and motor skills. These games are designed to be inclusive\, ensuring every child feels welcome and involved.\nCreative Crafts: Unleash your child’s artistic side with our craft activities. Each session includes a craft project related to the story theme\, allowing kids to create their own masterpieces to take home.\n\n\nBenefits of Storytime \n\n\nLanguage Development: Listening to stories helps children expand their vocabulary and improve their language skills.\nImagination and Creativity: Storytime encourages creative thinking as children visualize the stories and express themselves through crafts.\nSocial Skills: Engaging with peers during games and activities fosters cooperation and teamwork.\nFamily Bonding: Our Storytime sessions offer a wonderful opportunity for families to bond over shared experiences and create lasting memories.
URL:https://rosslibrary.org/event/wednesday-storytime-birth-to-2-years-old-1030-a-m/2026-02-04/
LOCATION:Ross Library\, 232 West Main Street\, Lock Haven\, PA\, 17745\, United States
CATEGORIES:Children Services,Ross Library
END:VEVENT
BEGIN:VEVENT
DTSTART;TZID=America/New_York:20260203T143000
DTEND;TZID=America/New_York:20260203T153000
DTSTAMP:20260419T170826
CREATED:20251104T204235Z
LAST-MODIFIED:20251104T204235Z
UID:10005134-1770129000-1770132600@rosslibrary.org
SUMMARY:Pre-K Social
DESCRIPTION:Bring your preschool-age kiddos to our Pre-K Social! This is a fun\, relaxed time for children to play\, explore\, and make new friends while caregivers connect with each other. We’ll have toys\, activities\, and space for imaginative play in a safe and welcoming library environment. \nNo registration required – just come and enjoy!
URL:https://rosslibrary.org/event/pre-k-social/2026-02-03/
LOCATION:Ross Library\, 232 West Main Street\, Lock Haven\, PA\, 17745\, United States
CATEGORIES:Children Services,Ross Library
END:VEVENT
BEGIN:VEVENT
DTSTART;TZID=America/New_York:20260203T103000
DTEND;TZID=America/New_York:20260203T113000
DTSTAMP:20260419T170826
CREATED:20251104T203325Z
LAST-MODIFIED:20260310T140635Z
UID:10004874-1770114600-1770118200@rosslibrary.org
SUMMARY:Tuesday Morning Storytime
DESCRIPTION:Welcome\, little explorers\, to a magical morning of discovery at Storytime in the Ross Library! \n\nWhat to Expect \n\n\nInteractive Storytelling: Let your child’s imagination soar with captivating tales that transport them to different worlds. Our skilled storytellers make each session an adventure\, bringing stories to life with expressive voices and engaging gestures.\nFun Games: After the storytelling\, children can participate in playful games that entertain and enhance their cognitive and motor skills. These games are designed to be inclusive\, ensuring every child feels welcome and involved.\nCreative Crafts: Unleash your child’s artistic side with our craft activities. Each session includes a craft project related to the story theme\, allowing kids to create their own masterpieces to take home.\n\n\nBenefits of Storytime \n\n\nLanguage Development: Listening to stories helps children expand their vocabulary and improve their language skills.\nImagination and Creativity: Storytime encourages creative thinking as children visualize the stories and express themselves through crafts.\nSocial Skills: Engaging with peers during games and activities fosters cooperation and teamwork.\nFamily Bonding: Our Storytime sessions offer a wonderful opportunity for families to bond over shared experiences and create lasting memories.
URL:https://rosslibrary.org/event/tuesday-morning-storytime-ages-0-2/2026-02-03/
LOCATION:Ross Library\, 232 West Main Street\, Lock Haven\, PA\, 17745\, United States
CATEGORIES:Children Services,Ross Library
END:VEVENT
BEGIN:VEVENT
DTSTART;TZID=America/New_York:20260130T110000
DTEND;TZID=America/New_York:20260130T130000
DTSTAMP:20260419T170826
CREATED:20260110T184558Z
LAST-MODIFIED:20260110T184558Z
UID:10006002-1769770800-1769778000@rosslibrary.org
SUMMARY:Art Workshop Fundraiser
DESCRIPTION:Inspired by Beautiful Flowers by famed botanical artist Pierre-Joseph Redouté\, this hands-on class will be led by artist Marianne Olivo and will guide participants in creating their own floral artwork. Using colored pencils and watercolors\, you’ll explore techniques for color layering\, shadows\, and highlights while adding your own creative touch.\nBring your own supplies if you have them; a limited selection of Prismacolor pencils\, watercolors\, and brushes will be available to share.\nAdults: $20School-Age: $15All proceeds benefit the Library.\nRegistration is REQUIRED and space is limited.Register at the main desk\, by phone\, or by email.\n11 a.m. | January 30
URL:https://rosslibrary.org/event/art-workshop-fundraiser/
LOCATION:Ross Library\, 232 West Main Street\, Lock Haven\, PA\, 17745\, United States
CATEGORIES:Adult Services,Children Services,Ross Library
ATTACH;FMTTYPE=image/jpeg:https://rosslibrary.org/wp-content/uploads/2026/01/611634960_1305810304912739_8303986308604501546_n.jpg
ORGANIZER;CN="Adult Services":MAILTO:ross13@rosslibrary.org
END:VEVENT
BEGIN:VEVENT
DTSTART;TZID=America/New_York:20260129T180000
DTEND;TZID=America/New_York:20260129T190000
DTSTAMP:20260419T170826
CREATED:20250331T153244Z
LAST-MODIFIED:20251208T212021Z
UID:10002534-1769709600-1769713200@rosslibrary.org
SUMMARY:English as a Second Language Class
DESCRIPTION:Join us for English classes tailored to students learning English as a second language. All levels welcome! \nLocation: Gross Room B
URL:https://rosslibrary.org/event/english-as-a-second-language-class-2/2026-01-29/
LOCATION:Ross Library\, 232 West Main Street\, Lock Haven\, PA\, 17745\, United States
CATEGORIES:Adult Services,Ross Library
ATTACH;FMTTYPE=image/jpeg:https://rosslibrary.org/wp-content/uploads/2025/03/486262557_1072913134869125_558893423278946933_n.jpg
ORGANIZER;CN="Adult Services":MAILTO:ross13@rosslibrary.org
END:VEVENT
BEGIN:VEVENT
DTSTART;TZID=America/New_York:20260128T143000
DTEND;TZID=America/New_York:20260128T153000
DTSTAMP:20260419T170826
CREATED:20251104T204407Z
LAST-MODIFIED:20251208T212508Z
UID:10005653-1769610600-1769614200@rosslibrary.org
SUMMARY:Toddler Social
DESCRIPTION:Toddlers and their caregivers are invited to our Toddler Social! Enjoy a fun\, safe space for little ones to explore\, play\, and interact with peers while caregivers connect with other parents and caregivers. \nNo registration required – just come ready to play!
URL:https://rosslibrary.org/event/toddler-social/2026-01-28/
LOCATION:Ross Library\, 232 West Main Street\, Lock Haven\, PA\, 17745\, United States
CATEGORIES:Children Services,Ross Library
END:VEVENT
BEGIN:VEVENT
DTSTART;TZID=America/New_York:20260128T103000
DTEND;TZID=America/New_York:20260128T113000
DTSTAMP:20260419T170826
CREATED:20250303T213248Z
LAST-MODIFIED:20260310T140652Z
UID:10001939-1769596200-1769599800@rosslibrary.org
SUMMARY:Wednesday Morning Storytime
DESCRIPTION:Welcome\, little explorers\, to a magical morning of discovery at Storytime in the Ross Library! \n\nWhat to Expect \n\n\nInteractive Storytelling: Let your child’s imagination soar with captivating tales that transport them to different worlds. Our skilled storytellers make each session an adventure\, bringing stories to life with expressive voices and engaging gestures.\nFun Games: After the storytelling\, children can participate in playful games that entertain and enhance their cognitive and motor skills. These games are designed to be inclusive\, ensuring every child feels welcome and involved.\nCreative Crafts: Unleash your child’s artistic side with our craft activities. Each session includes a craft project related to the story theme\, allowing kids to create their own masterpieces to take home.\n\n\nBenefits of Storytime \n\n\nLanguage Development: Listening to stories helps children expand their vocabulary and improve their language skills.\nImagination and Creativity: Storytime encourages creative thinking as children visualize the stories and express themselves through crafts.\nSocial Skills: Engaging with peers during games and activities fosters cooperation and teamwork.\nFamily Bonding: Our Storytime sessions offer a wonderful opportunity for families to bond over shared experiences and create lasting memories.
URL:https://rosslibrary.org/event/wednesday-storytime-birth-to-2-years-old-1030-a-m/2026-01-28/
LOCATION:Ross Library\, 232 West Main Street\, Lock Haven\, PA\, 17745\, United States
CATEGORIES:Children Services,Ross Library
END:VEVENT
BEGIN:VEVENT
DTSTART;TZID=America/New_York:20260127T143000
DTEND;TZID=America/New_York:20260127T153000
DTSTAMP:20260419T170826
CREATED:20251104T204235Z
LAST-MODIFIED:20251104T204235Z
UID:10005133-1769524200-1769527800@rosslibrary.org
SUMMARY:Pre-K Social
DESCRIPTION:Bring your preschool-age kiddos to our Pre-K Social! This is a fun\, relaxed time for children to play\, explore\, and make new friends while caregivers connect with each other. We’ll have toys\, activities\, and space for imaginative play in a safe and welcoming library environment. \nNo registration required – just come and enjoy!
URL:https://rosslibrary.org/event/pre-k-social/2026-01-27/
LOCATION:Ross Library\, 232 West Main Street\, Lock Haven\, PA\, 17745\, United States
CATEGORIES:Children Services,Ross Library
END:VEVENT
BEGIN:VEVENT
DTSTART;TZID=America/New_York:20260127T103000
DTEND;TZID=America/New_York:20260127T113000
DTSTAMP:20260419T170826
CREATED:20251104T203325Z
LAST-MODIFIED:20260310T140635Z
UID:10004873-1769509800-1769513400@rosslibrary.org
SUMMARY:Tuesday Morning Storytime
DESCRIPTION:Welcome\, little explorers\, to a magical morning of discovery at Storytime in the Ross Library! \n\nWhat to Expect \n\n\nInteractive Storytelling: Let your child’s imagination soar with captivating tales that transport them to different worlds. Our skilled storytellers make each session an adventure\, bringing stories to life with expressive voices and engaging gestures.\nFun Games: After the storytelling\, children can participate in playful games that entertain and enhance their cognitive and motor skills. These games are designed to be inclusive\, ensuring every child feels welcome and involved.\nCreative Crafts: Unleash your child’s artistic side with our craft activities. Each session includes a craft project related to the story theme\, allowing kids to create their own masterpieces to take home.\n\n\nBenefits of Storytime \n\n\nLanguage Development: Listening to stories helps children expand their vocabulary and improve their language skills.\nImagination and Creativity: Storytime encourages creative thinking as children visualize the stories and express themselves through crafts.\nSocial Skills: Engaging with peers during games and activities fosters cooperation and teamwork.\nFamily Bonding: Our Storytime sessions offer a wonderful opportunity for families to bond over shared experiences and create lasting memories.
URL:https://rosslibrary.org/event/tuesday-morning-storytime-ages-0-2/2026-01-27/
LOCATION:Ross Library\, 232 West Main Street\, Lock Haven\, PA\, 17745\, United States
CATEGORIES:Children Services,Ross Library
END:VEVENT
BEGIN:VEVENT
DTSTART;TZID=America/New_York:20260126T180000
DTEND;TZID=America/New_York:20260126T194500
DTSTAMP:20260419T170826
CREATED:20250331T160933Z
LAST-MODIFIED:20260223T153312Z
UID:10002377-1769450400-1769456700@rosslibrary.org
SUMMARY:Crafter Hours
DESCRIPTION:Every second and fourth Monday! \nCome indulge your favorite hobby (not just knitting) in a relaxing environment with fellow crafters. \nAll crafters welcome! \nFor further information\, please contact the Library at (570) 748-3321 or ross10@rosslibrary.org.The Annie Halenbake Ross Library is a Clinton County United Way partner agency and a PA Forward Gold Star library.
URL:https://rosslibrary.org/event/knit-picking-4/2026-01-26/
LOCATION:Ross Library\, 232 West Main Street\, Lock Haven\, PA\, 17745\, United States
CATEGORIES:Adult Services,Ross Library
ATTACH;FMTTYPE=image/jpeg:https://rosslibrary.org/wp-content/uploads/2025/03/535480708_1194440056049765_2677702918898008924_n.jpg
ORGANIZER;CN="Adult Services":MAILTO:ross13@rosslibrary.org
END:VEVENT
BEGIN:VEVENT
DTSTART;TZID=America/New_York:20260124T133000
DTEND;TZID=America/New_York:20260124T150000
DTSTAMP:20260419T170826
CREATED:20250220T233007Z
LAST-MODIFIED:20260227T201551Z
UID:10004496-1769261400-1769266800@rosslibrary.org
SUMMARY:Crafternoons
DESCRIPTION:Join us for a monthly craft session! Each month we will have a different themed craft to make!\n\nFor further information\, please contact the library at (570) 748-3321 or ross13@rosslibrary.org.\nThe Annie Halenbake Ross Library is a Clinton County United Way partner agency and a PA Forward Gold Star library.
URL:https://rosslibrary.org/event/crafternoons-2-2/2026-01-24/
LOCATION:Ross Library\, 232 West Main Street\, Lock Haven\, PA\, 17745\, United States
CATEGORIES:Adult Services,Ross Library
ORGANIZER;CN="Adult Services":MAILTO:ross13@rosslibrary.org
END:VEVENT
BEGIN:VEVENT
DTSTART;TZID=America/New_York:20260122T180000
DTEND;TZID=America/New_York:20260122T190000
DTSTAMP:20260419T170826
CREATED:20250331T153244Z
LAST-MODIFIED:20251208T212021Z
UID:10002533-1769104800-1769108400@rosslibrary.org
SUMMARY:English as a Second Language Class
DESCRIPTION:Join us for English classes tailored to students learning English as a second language. All levels welcome! \nLocation: Gross Room B
URL:https://rosslibrary.org/event/english-as-a-second-language-class-2/2026-01-22/
LOCATION:Ross Library\, 232 West Main Street\, Lock Haven\, PA\, 17745\, United States
CATEGORIES:Adult Services,Ross Library
ATTACH;FMTTYPE=image/jpeg:https://rosslibrary.org/wp-content/uploads/2025/03/486262557_1072913134869125_558893423278946933_n.jpg
ORGANIZER;CN="Adult Services":MAILTO:ross13@rosslibrary.org
END:VEVENT
BEGIN:VEVENT
DTSTART;TZID=America/New_York:20260121T143000
DTEND;TZID=America/New_York:20260121T153000
DTSTAMP:20260419T170826
CREATED:20251104T204407Z
LAST-MODIFIED:20251208T212508Z
UID:10005652-1769005800-1769009400@rosslibrary.org
SUMMARY:Toddler Social
DESCRIPTION:Toddlers and their caregivers are invited to our Toddler Social! Enjoy a fun\, safe space for little ones to explore\, play\, and interact with peers while caregivers connect with other parents and caregivers. \nNo registration required – just come ready to play!
URL:https://rosslibrary.org/event/toddler-social/2026-01-21/
LOCATION:Ross Library\, 232 West Main Street\, Lock Haven\, PA\, 17745\, United States
CATEGORIES:Children Services,Ross Library
END:VEVENT
BEGIN:VEVENT
DTSTART;TZID=America/New_York:20260121T103000
DTEND;TZID=America/New_York:20260121T113000
DTSTAMP:20260419T170826
CREATED:20250303T213248Z
LAST-MODIFIED:20260310T140652Z
UID:10001938-1768991400-1768995000@rosslibrary.org
SUMMARY:Wednesday Morning Storytime
DESCRIPTION:Welcome\, little explorers\, to a magical morning of discovery at Storytime in the Ross Library! \n\nWhat to Expect \n\n\nInteractive Storytelling: Let your child’s imagination soar with captivating tales that transport them to different worlds. Our skilled storytellers make each session an adventure\, bringing stories to life with expressive voices and engaging gestures.\nFun Games: After the storytelling\, children can participate in playful games that entertain and enhance their cognitive and motor skills. These games are designed to be inclusive\, ensuring every child feels welcome and involved.\nCreative Crafts: Unleash your child’s artistic side with our craft activities. Each session includes a craft project related to the story theme\, allowing kids to create their own masterpieces to take home.\n\n\nBenefits of Storytime \n\n\nLanguage Development: Listening to stories helps children expand their vocabulary and improve their language skills.\nImagination and Creativity: Storytime encourages creative thinking as children visualize the stories and express themselves through crafts.\nSocial Skills: Engaging with peers during games and activities fosters cooperation and teamwork.\nFamily Bonding: Our Storytime sessions offer a wonderful opportunity for families to bond over shared experiences and create lasting memories.
URL:https://rosslibrary.org/event/wednesday-storytime-birth-to-2-years-old-1030-a-m/2026-01-21/
LOCATION:Ross Library\, 232 West Main Street\, Lock Haven\, PA\, 17745\, United States
CATEGORIES:Children Services,Ross Library
END:VEVENT
BEGIN:VEVENT
DTSTART;TZID=America/New_York:20260120T143000
DTEND;TZID=America/New_York:20260120T153000
DTSTAMP:20260419T170826
CREATED:20251104T204235Z
LAST-MODIFIED:20251104T204235Z
UID:10005132-1768919400-1768923000@rosslibrary.org
SUMMARY:Pre-K Social
DESCRIPTION:Bring your preschool-age kiddos to our Pre-K Social! This is a fun\, relaxed time for children to play\, explore\, and make new friends while caregivers connect with each other. We’ll have toys\, activities\, and space for imaginative play in a safe and welcoming library environment. \nNo registration required – just come and enjoy!
URL:https://rosslibrary.org/event/pre-k-social/2026-01-20/
LOCATION:Ross Library\, 232 West Main Street\, Lock Haven\, PA\, 17745\, United States
CATEGORIES:Children Services,Ross Library
END:VEVENT
BEGIN:VEVENT
DTSTART;TZID=America/New_York:20260120T103000
DTEND;TZID=America/New_York:20260120T113000
DTSTAMP:20260419T170826
CREATED:20251104T203325Z
LAST-MODIFIED:20260310T140635Z
UID:10004872-1768905000-1768908600@rosslibrary.org
SUMMARY:Tuesday Morning Storytime
DESCRIPTION:Welcome\, little explorers\, to a magical morning of discovery at Storytime in the Ross Library! \n\nWhat to Expect \n\n\nInteractive Storytelling: Let your child’s imagination soar with captivating tales that transport them to different worlds. Our skilled storytellers make each session an adventure\, bringing stories to life with expressive voices and engaging gestures.\nFun Games: After the storytelling\, children can participate in playful games that entertain and enhance their cognitive and motor skills. These games are designed to be inclusive\, ensuring every child feels welcome and involved.\nCreative Crafts: Unleash your child’s artistic side with our craft activities. Each session includes a craft project related to the story theme\, allowing kids to create their own masterpieces to take home.\n\n\nBenefits of Storytime \n\n\nLanguage Development: Listening to stories helps children expand their vocabulary and improve their language skills.\nImagination and Creativity: Storytime encourages creative thinking as children visualize the stories and express themselves through crafts.\nSocial Skills: Engaging with peers during games and activities fosters cooperation and teamwork.\nFamily Bonding: Our Storytime sessions offer a wonderful opportunity for families to bond over shared experiences and create lasting memories.
URL:https://rosslibrary.org/event/tuesday-morning-storytime-ages-0-2/2026-01-20/
LOCATION:Ross Library\, 232 West Main Street\, Lock Haven\, PA\, 17745\, United States
CATEGORIES:Children Services,Ross Library
END:VEVENT
END:VCALENDAR